BEGIN:VCALENDAR
VERSION:2.0
PRODID:-//RAF Mildenhall - ECPv6.15.20//NONSGML v1.0//EN
CALSCALE:GREGORIAN
METHOD:PUBLISH
X-WR-CALNAME:RAF Mildenhall
X-ORIGINAL-URL:https://100fss.com
X-WR-CALDESC:Events for RAF Mildenhall
REFRESH-INTERVAL;VALUE=DURATION:PT1H
X-Robots-Tag:noindex
X-PUBLISHED-TTL:PT1H
BEGIN:VTIMEZONE
TZID:UTC
BEGIN:STANDARD
TZOFFSETFROM:+0000
TZOFFSETTO:+0000
TZNAME:UTC
DTSTART:20250101T000000
END:STANDARD
END:VTIMEZONE
BEGIN:VEVENT
DTSTART;VALUE=DATE:20260401
DTEND;VALUE=DATE:20260501
DTSTAMP:20260423T103508
CREATED:20260407T121558Z
LAST-MODIFIED:20260407T121558Z
UID:10000986-1775001600-1777593599@100fss.com
SUMMARY:April Colouring Challenge!
DESCRIPTION:🎨 It’s Here… The April Colouring Challenge! 🌈\n\n\n\nEvent Dates: 1–30 April 2026Submission Location: 100 FSS Marketing Department\, Monday–Friday\, 9:00 a.m.–3:00 p.m. BLDG 450Ages: 1–17 years oldPrizes: FIVE $10 FSS Gift Cards \nChildren ages 1–17 are invited to participate in the 100 FSS April Colouring Challenge! This is a great way for young artists to show off their creativity and be recognized for their talent. \nHow to Enter: \n\nPick up a colouring sheet at one of the following locations:\n\nBob Hope Community Center\nCDC\nYouth Center\nMarketing Office\nVAT Office\nLibrary\nGalaxy Club\nOr download and print from home\n\n\nColour your masterpiece any way you like.\nSubmit your completed sheet to the 100 FSS Marketing Department by 30 April.\n\nJudging & Recognition:All entries will be reviewed on 1 May\, and five winners will each receive a $10 FSS Gift Card. Standout entries will also be featured on official FSS social media platforms throughout May. \n✨ Standout entries will be featured on our social media all month long\, so keep an eye out… you might see your artwork in the spotlight! \nGet creative\, have fun\, and show us your artistic flair!
URL:https://100fss.com/event/april-colouring-challenge/
CATEGORIES:Child Development Center,Family,Fun,Military & Family Readiness Center,Youth Programs
ATTACH;FMTTYPE=image/jpeg:https://100fss.com/wp-content/uploads/2026/04/GO-April-2026-color-page.jpg
END:VEVENT
BEGIN:VEVENT
DTSTART;TZID=UTC:20260423T190000
DTEND;TZID=UTC:20260423T210000
DTSTAMP:20260423T103508
CREATED:20260309T133305Z
LAST-MODIFIED:20260309T133326Z
UID:10000918-1776970800-1776978000@100fss.com
SUMMARY:Trivia Night
DESCRIPTION:Trivia Night | Every Thursday | 7–9 PMPut your knowledge to the test at Trivia Night at the Galaxy Club! Join us every Thursday for an evening of fun\, friendly competition\, and brain-teasing questions. Bring your friends\, form a team\, and see if you have what it takes to claim the bragging rights. Whether you’re a trivia master or just in it for the laughs\, everyone is welcome. \nFollow the Galaxy Club Facebook page for weekly themes and the most up-to-date information.
URL:https://100fss.com/event/trivia-night/2026-04-23/
CATEGORIES:Force Support,Fun,Galaxy Specials,Hot Events
ATTACH;FMTTYPE=image/jpeg:https://100fss.com/wp-content/uploads/2026/03/00_Galaxy-Trivia-Night.jpeg
END:VEVENT
BEGIN:VEVENT
DTSTART;TZID=UTC:20260424T080000
DTEND;TZID=UTC:20260424T170000
DTSTAMP:20260423T103508
CREATED:20260416T143902Z
LAST-MODIFIED:20260416T143902Z
UID:10000987-1777017600-1777050000@100fss.com
SUMMARY:Spring Fling BINGO!
DESCRIPTION:🎉 Spring Fling Bingo Night 🎉 \nJoin us at the Galaxy Club for a fun-filled evening of Bingo\, prizes\, and great company! Bring your friends and enjoy a relaxed night of friendly competition and excitement. \n🗓️ April 24🕕 Doors open at 6:00 PM📍 Galaxy Club \nIt pays to be a member — sign up today and don’t miss your chance to win! \nWe look forward to seeing you there!
URL:https://100fss.com/event/spring-fling-bingo/
CATEGORIES:Fun
ATTACH;FMTTYPE=image/jpeg:https://100fss.com/wp-content/uploads/2026/04/Galaxy-Bingo-Apr-Update-scaled.jpeg
END:VEVENT
BEGIN:VEVENT
DTSTART;VALUE=DATE:20260425
DTEND;VALUE=DATE:20260426
DTSTAMP:20260423T103508
CREATED:20260309T140606Z
LAST-MODIFIED:20260309T140606Z
UID:10000969-1777075200-1777161599@100fss.com
SUMMARY:Fallow to Flame
DESCRIPTION:🔥 Fallow to Flame – Wilderness Culinary Adventure \n📅 Sat\, Apr 25💵 $55 per person🚌 Transport included \nA one-of-a-kind outdoor culinary experience — adventure for your taste buds! \n📞 Sign up: 01638 544283📍 Building 162 (near the bowling alley & post office) \nFollow RAF Mildenhall Outdoor Recreation Facebook for all the fun!
URL:https://100fss.com/event/fallow-to-flame/
CATEGORIES:Outdoor Recreation
ATTACH;FMTTYPE=image/jpeg:https://100fss.com/wp-content/uploads/2026/03/25-Apr_Fallow-to-Flame-POST.jpg
END:VEVENT
BEGIN:VEVENT
DTSTART;VALUE=DATE:20260427
DTEND;VALUE=DATE:20260428
DTSTAMP:20260423T103508
CREATED:20260309T133932Z
LAST-MODIFIED:20260309T134310Z
UID:10000808-1777248000-1777334399@100fss.com
SUMMARY:Scavenger Hunt
DESCRIPTION:🔎📚 Library Scavenger Hunt – All Month Long! 📚🔎 \nReady for an adventure? A new scavenger hunt begins every Monday at the Library! Search high and low to find the hidden pictures throughout the library. Once you complete the hunt\, you’ll get to choose a prize from the treasure box! 🏆✨ \n🗓 New Hunt Available: Every Monday📍 Location: Library\, Building 425 \nLibrary Hours:📖 Mon / Tues / Wed / Fri: 10 AM – 5 PM📖 Thurs: 10 AM – 7 PM📖 Sat: 10 AM – 5 PM \nBring your friends\, your family\, and your best detective skills. Happy hunting! 🕵️‍♂️🗺️
URL:https://100fss.com/event/scavenger-hunt-2/2026-04-27/
CATEGORIES:Fun,Library
ATTACH;FMTTYPE=image/jpeg:https://100fss.com/wp-content/uploads/2024/07/web_-_calendar_icon.jpg_65818d75aa0f75.88381760.jpeg
END:VEVENT
BEGIN:VEVENT
DTSTART;TZID=UTC:20260430T190000
DTEND;TZID=UTC:20260430T210000
DTSTAMP:20260423T103508
CREATED:20260309T133305Z
LAST-MODIFIED:20260309T133326Z
UID:10000919-1777575600-1777582800@100fss.com
SUMMARY:Trivia Night
DESCRIPTION:Trivia Night | Every Thursday | 7–9 PMPut your knowledge to the test at Trivia Night at the Galaxy Club! Join us every Thursday for an evening of fun\, friendly competition\, and brain-teasing questions. Bring your friends\, form a team\, and see if you have what it takes to claim the bragging rights. Whether you’re a trivia master or just in it for the laughs\, everyone is welcome. \nFollow the Galaxy Club Facebook page for weekly themes and the most up-to-date information.
URL:https://100fss.com/event/trivia-night/2026-04-30/
CATEGORIES:Force Support,Fun,Galaxy Specials,Hot Events
ATTACH;FMTTYPE=image/jpeg:https://100fss.com/wp-content/uploads/2026/03/00_Galaxy-Trivia-Night.jpeg
END:VEVENT
BEGIN:VEVENT
DTSTART;TZID=UTC:20260501T190000
DTEND;TZID=UTC:20260501T210000
DTSTAMP:20260423T103508
CREATED:20260416T144425Z
LAST-MODIFIED:20260416T144425Z
UID:10000988-1777662000-1777669200@100fss.com
SUMMARY:Comedy Night at the Galaxy Club
DESCRIPTION:Comedy Night at the Galaxy Club \nJoin us for a FREE comedy event on Friday\, May 1st from 7:00–9:00 PM in the Ballroom. \nThis high-energy comedy show features sharp jokes\, quick wit\, and nonstop laughs from a dynamic lineup of performers: \n\nHeadliner: Tyson Bradley\nNelson Gombakomba (BBC\, The Comedy Store\, TEDx)\nEddie Rojas\, local active-duty favorite\nAJ Chris\, rising comedy talent\nHosted by MC Jamie Huffmaster\n\nBring your friends and enjoy an evening filled with big laughs\, great company\, and unforgettable entertainment.
URL:https://100fss.com/event/comedy-night-at-the-galaxy-club/
ATTACH;FMTTYPE=image/jpeg:https://100fss.com/wp-content/uploads/2026/04/1-May-Comedy-Night-Apr2026-POST.jpg
END:VEVENT
BEGIN:VEVENT
DTSTART;VALUE=DATE:20260504
DTEND;VALUE=DATE:20260505
DTSTAMP:20260423T103508
CREATED:20260309T133932Z
LAST-MODIFIED:20260309T134310Z
UID:10000809-1777852800-1777939199@100fss.com
SUMMARY:Scavenger Hunt
DESCRIPTION:🔎📚 Library Scavenger Hunt – All Month Long! 📚🔎 \nReady for an adventure? A new scavenger hunt begins every Monday at the Library! Search high and low to find the hidden pictures throughout the library. Once you complete the hunt\, you’ll get to choose a prize from the treasure box! 🏆✨ \n🗓 New Hunt Available: Every Monday📍 Location: Library\, Building 425 \nLibrary Hours:📖 Mon / Tues / Wed / Fri: 10 AM – 5 PM📖 Thurs: 10 AM – 7 PM📖 Sat: 10 AM – 5 PM \nBring your friends\, your family\, and your best detective skills. Happy hunting! 🕵️‍♂️🗺️
URL:https://100fss.com/event/scavenger-hunt-2/2026-05-04/
CATEGORIES:Fun,Library
ATTACH;FMTTYPE=image/jpeg:https://100fss.com/wp-content/uploads/2024/07/web_-_calendar_icon.jpg_65818d75aa0f75.88381760.jpeg
END:VEVENT
BEGIN:VEVENT
DTSTART;TZID=UTC:20260507T190000
DTEND;TZID=UTC:20260507T210000
DTSTAMP:20260423T103508
CREATED:20260309T133305Z
LAST-MODIFIED:20260309T133326Z
UID:10000920-1778180400-1778187600@100fss.com
SUMMARY:Trivia Night
DESCRIPTION:Trivia Night | Every Thursday | 7–9 PMPut your knowledge to the test at Trivia Night at the Galaxy Club! Join us every Thursday for an evening of fun\, friendly competition\, and brain-teasing questions. Bring your friends\, form a team\, and see if you have what it takes to claim the bragging rights. Whether you’re a trivia master or just in it for the laughs\, everyone is welcome. \nFollow the Galaxy Club Facebook page for weekly themes and the most up-to-date information.
URL:https://100fss.com/event/trivia-night/2026-05-07/
CATEGORIES:Force Support,Fun,Galaxy Specials,Hot Events
ATTACH;FMTTYPE=image/jpeg:https://100fss.com/wp-content/uploads/2026/03/00_Galaxy-Trivia-Night.jpeg
END:VEVENT
BEGIN:VEVENT
DTSTART;VALUE=DATE:20260511
DTEND;VALUE=DATE:20260512
DTSTAMP:20260423T103508
CREATED:20260309T133932Z
LAST-MODIFIED:20260309T134310Z
UID:10000810-1778457600-1778543999@100fss.com
SUMMARY:Scavenger Hunt
DESCRIPTION:🔎📚 Library Scavenger Hunt – All Month Long! 📚🔎 \nReady for an adventure? A new scavenger hunt begins every Monday at the Library! Search high and low to find the hidden pictures throughout the library. Once you complete the hunt\, you’ll get to choose a prize from the treasure box! 🏆✨ \n🗓 New Hunt Available: Every Monday📍 Location: Library\, Building 425 \nLibrary Hours:📖 Mon / Tues / Wed / Fri: 10 AM – 5 PM📖 Thurs: 10 AM – 7 PM📖 Sat: 10 AM – 5 PM \nBring your friends\, your family\, and your best detective skills. Happy hunting! 🕵️‍♂️🗺️
URL:https://100fss.com/event/scavenger-hunt-2/2026-05-11/
CATEGORIES:Fun,Library
ATTACH;FMTTYPE=image/jpeg:https://100fss.com/wp-content/uploads/2024/07/web_-_calendar_icon.jpg_65818d75aa0f75.88381760.jpeg
END:VEVENT
BEGIN:VEVENT
DTSTART;TZID=UTC:20260514T190000
DTEND;TZID=UTC:20260514T210000
DTSTAMP:20260423T103508
CREATED:20260309T133305Z
LAST-MODIFIED:20260309T133326Z
UID:10000921-1778785200-1778792400@100fss.com
SUMMARY:Trivia Night
DESCRIPTION:Trivia Night | Every Thursday | 7–9 PMPut your knowledge to the test at Trivia Night at the Galaxy Club! Join us every Thursday for an evening of fun\, friendly competition\, and brain-teasing questions. Bring your friends\, form a team\, and see if you have what it takes to claim the bragging rights. Whether you’re a trivia master or just in it for the laughs\, everyone is welcome. \nFollow the Galaxy Club Facebook page for weekly themes and the most up-to-date information.
URL:https://100fss.com/event/trivia-night/2026-05-14/
CATEGORIES:Force Support,Fun,Galaxy Specials,Hot Events
ATTACH;FMTTYPE=image/jpeg:https://100fss.com/wp-content/uploads/2026/03/00_Galaxy-Trivia-Night.jpeg
END:VEVENT
BEGIN:VEVENT
DTSTART;VALUE=DATE:20260518
DTEND;VALUE=DATE:20260519
DTSTAMP:20260423T103508
CREATED:20260309T133932Z
LAST-MODIFIED:20260309T134310Z
UID:10000811-1779062400-1779148799@100fss.com
SUMMARY:Scavenger Hunt
DESCRIPTION:🔎📚 Library Scavenger Hunt – All Month Long! 📚🔎 \nReady for an adventure? A new scavenger hunt begins every Monday at the Library! Search high and low to find the hidden pictures throughout the library. Once you complete the hunt\, you’ll get to choose a prize from the treasure box! 🏆✨ \n🗓 New Hunt Available: Every Monday📍 Location: Library\, Building 425 \nLibrary Hours:📖 Mon / Tues / Wed / Fri: 10 AM – 5 PM📖 Thurs: 10 AM – 7 PM📖 Sat: 10 AM – 5 PM \nBring your friends\, your family\, and your best detective skills. Happy hunting! 🕵️‍♂️🗺️
URL:https://100fss.com/event/scavenger-hunt-2/2026-05-18/
CATEGORIES:Fun,Library
ATTACH;FMTTYPE=image/jpeg:https://100fss.com/wp-content/uploads/2024/07/web_-_calendar_icon.jpg_65818d75aa0f75.88381760.jpeg
END:VEVENT
BEGIN:VEVENT
DTSTART;TZID=UTC:20260521T190000
DTEND;TZID=UTC:20260521T210000
DTSTAMP:20260423T103508
CREATED:20260309T133305Z
LAST-MODIFIED:20260309T133326Z
UID:10000922-1779390000-1779397200@100fss.com
SUMMARY:Trivia Night
DESCRIPTION:Trivia Night | Every Thursday | 7–9 PMPut your knowledge to the test at Trivia Night at the Galaxy Club! Join us every Thursday for an evening of fun\, friendly competition\, and brain-teasing questions. Bring your friends\, form a team\, and see if you have what it takes to claim the bragging rights. Whether you’re a trivia master or just in it for the laughs\, everyone is welcome. \nFollow the Galaxy Club Facebook page for weekly themes and the most up-to-date information.
URL:https://100fss.com/event/trivia-night/2026-05-21/
CATEGORIES:Force Support,Fun,Galaxy Specials,Hot Events
ATTACH;FMTTYPE=image/jpeg:https://100fss.com/wp-content/uploads/2026/03/00_Galaxy-Trivia-Night.jpeg
END:VEVENT
BEGIN:VEVENT
DTSTART;VALUE=DATE:20260522
DTEND;VALUE=DATE:20260523
DTSTAMP:20260423T103508
CREATED:20260309T140321Z
LAST-MODIFIED:20260309T140321Z
UID:10000968-1779408000-1779494399@100fss.com
SUMMARY:Dovedale & Thorpe Cloud Hike – New 2026 Route
DESCRIPTION:🥾 Dovedale & Thorpe Cloud Hike – New 2026 Route \n📅 Fri\, May 22💵 $30 per person \n📞 Sign up: 01638 544283📍 Building 162 (near the bowling alley & post office) \n  \n 
URL:https://100fss.com/event/dovedale-thorpe-cloud-hike-new-2026-route/
ATTACH;FMTTYPE=image/jpeg:https://100fss.com/wp-content/uploads/2026/03/22-May_-Dovedale-Post.jpg
END:VEVENT
BEGIN:VEVENT
DTSTART;VALUE=DATE:20260525
DTEND;VALUE=DATE:20260526
DTSTAMP:20260423T103508
CREATED:20260309T133932Z
LAST-MODIFIED:20260309T134310Z
UID:10000812-1779667200-1779753599@100fss.com
SUMMARY:Scavenger Hunt
DESCRIPTION:🔎📚 Library Scavenger Hunt – All Month Long! 📚🔎 \nReady for an adventure? A new scavenger hunt begins every Monday at the Library! Search high and low to find the hidden pictures throughout the library. Once you complete the hunt\, you’ll get to choose a prize from the treasure box! 🏆✨ \n🗓 New Hunt Available: Every Monday📍 Location: Library\, Building 425 \nLibrary Hours:📖 Mon / Tues / Wed / Fri: 10 AM – 5 PM📖 Thurs: 10 AM – 7 PM📖 Sat: 10 AM – 5 PM \nBring your friends\, your family\, and your best detective skills. Happy hunting! 🕵️‍♂️🗺️
URL:https://100fss.com/event/scavenger-hunt-2/2026-05-25/
CATEGORIES:Fun,Library
ATTACH;FMTTYPE=image/jpeg:https://100fss.com/wp-content/uploads/2024/07/web_-_calendar_icon.jpg_65818d75aa0f75.88381760.jpeg
END:VEVENT
BEGIN:VEVENT
DTSTART;VALUE=DATE:20260528
DTEND;VALUE=DATE:20260529
DTSTAMP:20260423T103508
CREATED:20260309T142432Z
LAST-MODIFIED:20260309T142432Z
UID:10000970-1779926400-1780012799@100fss.com
SUMMARY:Axe Throwing Thursdays!
DESCRIPTION:🪓 Axe Throwing Thursdays! \n📅 Last Thursday of each month – May through August💵 $20 per person⏱ 90-minute sessions👥 Ages 12+ \n📞 Sign up: 01638 544283📍 Building 162 (near the bowling alley & post office) \n🎯 Aim\, throw\, and have a blast! \nFollow RAF Mildenhall Outdoor Recreation Facebook for all the fun!
URL:https://100fss.com/event/axe-throwing-thursdays/2026-05-28/
CATEGORIES:Outdoor Recreation
ATTACH;FMTTYPE=image/jpeg:https://100fss.com/wp-content/uploads/2026/03/00_MAY-AUG-AxeThrowing-Thursdays-POST.jpg
END:VEVENT
BEGIN:VEVENT
DTSTART;TZID=UTC:20260528T190000
DTEND;TZID=UTC:20260528T210000
DTSTAMP:20260423T103508
CREATED:20260309T133305Z
LAST-MODIFIED:20260309T133326Z
UID:10000923-1779994800-1780002000@100fss.com
SUMMARY:Trivia Night
DESCRIPTION:Trivia Night | Every Thursday | 7–9 PMPut your knowledge to the test at Trivia Night at the Galaxy Club! Join us every Thursday for an evening of fun\, friendly competition\, and brain-teasing questions. Bring your friends\, form a team\, and see if you have what it takes to claim the bragging rights. Whether you’re a trivia master or just in it for the laughs\, everyone is welcome. \nFollow the Galaxy Club Facebook page for weekly themes and the most up-to-date information.
URL:https://100fss.com/event/trivia-night/2026-05-28/
CATEGORIES:Force Support,Fun,Galaxy Specials,Hot Events
ATTACH;FMTTYPE=image/jpeg:https://100fss.com/wp-content/uploads/2026/03/00_Galaxy-Trivia-Night.jpeg
END:VEVENT
BEGIN:VEVENT
DTSTART;VALUE=DATE:20260601
DTEND;VALUE=DATE:20260602
DTSTAMP:20260423T103508
CREATED:20260309T133932Z
LAST-MODIFIED:20260309T134310Z
UID:10000813-1780272000-1780358399@100fss.com
SUMMARY:Scavenger Hunt
DESCRIPTION:🔎📚 Library Scavenger Hunt – All Month Long! 📚🔎 \nReady for an adventure? A new scavenger hunt begins every Monday at the Library! Search high and low to find the hidden pictures throughout the library. Once you complete the hunt\, you’ll get to choose a prize from the treasure box! 🏆✨ \n🗓 New Hunt Available: Every Monday📍 Location: Library\, Building 425 \nLibrary Hours:📖 Mon / Tues / Wed / Fri: 10 AM – 5 PM📖 Thurs: 10 AM – 7 PM📖 Sat: 10 AM – 5 PM \nBring your friends\, your family\, and your best detective skills. Happy hunting! 🕵️‍♂️🗺️
URL:https://100fss.com/event/scavenger-hunt-2/2026-06-01/
CATEGORIES:Fun,Library
ATTACH;FMTTYPE=image/jpeg:https://100fss.com/wp-content/uploads/2024/07/web_-_calendar_icon.jpg_65818d75aa0f75.88381760.jpeg
END:VEVENT
BEGIN:VEVENT
DTSTART;TZID=UTC:20260604T190000
DTEND;TZID=UTC:20260604T210000
DTSTAMP:20260423T103508
CREATED:20260309T133305Z
LAST-MODIFIED:20260309T133326Z
UID:10000924-1780599600-1780606800@100fss.com
SUMMARY:Trivia Night
DESCRIPTION:Trivia Night | Every Thursday | 7–9 PMPut your knowledge to the test at Trivia Night at the Galaxy Club! Join us every Thursday for an evening of fun\, friendly competition\, and brain-teasing questions. Bring your friends\, form a team\, and see if you have what it takes to claim the bragging rights. Whether you’re a trivia master or just in it for the laughs\, everyone is welcome. \nFollow the Galaxy Club Facebook page for weekly themes and the most up-to-date information.
URL:https://100fss.com/event/trivia-night/2026-06-04/
CATEGORIES:Force Support,Fun,Galaxy Specials,Hot Events
ATTACH;FMTTYPE=image/jpeg:https://100fss.com/wp-content/uploads/2026/03/00_Galaxy-Trivia-Night.jpeg
END:VEVENT
BEGIN:VEVENT
DTSTART;VALUE=DATE:20260608
DTEND;VALUE=DATE:20260609
DTSTAMP:20260423T103508
CREATED:20260309T133932Z
LAST-MODIFIED:20260309T134310Z
UID:10000814-1780876800-1780963199@100fss.com
SUMMARY:Scavenger Hunt
DESCRIPTION:🔎📚 Library Scavenger Hunt – All Month Long! 📚🔎 \nReady for an adventure? A new scavenger hunt begins every Monday at the Library! Search high and low to find the hidden pictures throughout the library. Once you complete the hunt\, you’ll get to choose a prize from the treasure box! 🏆✨ \n🗓 New Hunt Available: Every Monday📍 Location: Library\, Building 425 \nLibrary Hours:📖 Mon / Tues / Wed / Fri: 10 AM – 5 PM📖 Thurs: 10 AM – 7 PM📖 Sat: 10 AM – 5 PM \nBring your friends\, your family\, and your best detective skills. Happy hunting! 🕵️‍♂️🗺️
URL:https://100fss.com/event/scavenger-hunt-2/2026-06-08/
CATEGORIES:Fun,Library
ATTACH;FMTTYPE=image/jpeg:https://100fss.com/wp-content/uploads/2024/07/web_-_calendar_icon.jpg_65818d75aa0f75.88381760.jpeg
END:VEVENT
BEGIN:VEVENT
DTSTART;TZID=UTC:20260611T190000
DTEND;TZID=UTC:20260611T210000
DTSTAMP:20260423T103508
CREATED:20260309T133305Z
LAST-MODIFIED:20260309T133326Z
UID:10000925-1781204400-1781211600@100fss.com
SUMMARY:Trivia Night
DESCRIPTION:Trivia Night | Every Thursday | 7–9 PMPut your knowledge to the test at Trivia Night at the Galaxy Club! Join us every Thursday for an evening of fun\, friendly competition\, and brain-teasing questions. Bring your friends\, form a team\, and see if you have what it takes to claim the bragging rights. Whether you’re a trivia master or just in it for the laughs\, everyone is welcome. \nFollow the Galaxy Club Facebook page for weekly themes and the most up-to-date information.
URL:https://100fss.com/event/trivia-night/2026-06-11/
CATEGORIES:Force Support,Fun,Galaxy Specials,Hot Events
ATTACH;FMTTYPE=image/jpeg:https://100fss.com/wp-content/uploads/2026/03/00_Galaxy-Trivia-Night.jpeg
END:VEVENT
BEGIN:VEVENT
DTSTART;VALUE=DATE:20260615
DTEND;VALUE=DATE:20260616
DTSTAMP:20260423T103508
CREATED:20260309T133932Z
LAST-MODIFIED:20260309T134310Z
UID:10000815-1781481600-1781567999@100fss.com
SUMMARY:Scavenger Hunt
DESCRIPTION:🔎📚 Library Scavenger Hunt – All Month Long! 📚🔎 \nReady for an adventure? A new scavenger hunt begins every Monday at the Library! Search high and low to find the hidden pictures throughout the library. Once you complete the hunt\, you’ll get to choose a prize from the treasure box! 🏆✨ \n🗓 New Hunt Available: Every Monday📍 Location: Library\, Building 425 \nLibrary Hours:📖 Mon / Tues / Wed / Fri: 10 AM – 5 PM📖 Thurs: 10 AM – 7 PM📖 Sat: 10 AM – 5 PM \nBring your friends\, your family\, and your best detective skills. Happy hunting! 🕵️‍♂️🗺️
URL:https://100fss.com/event/scavenger-hunt-2/2026-06-15/
CATEGORIES:Fun,Library
ATTACH;FMTTYPE=image/jpeg:https://100fss.com/wp-content/uploads/2024/07/web_-_calendar_icon.jpg_65818d75aa0f75.88381760.jpeg
END:VEVENT
BEGIN:VEVENT
DTSTART;TZID=UTC:20260618T190000
DTEND;TZID=UTC:20260618T210000
DTSTAMP:20260423T103508
CREATED:20260309T133305Z
LAST-MODIFIED:20260309T133326Z
UID:10000926-1781809200-1781816400@100fss.com
SUMMARY:Trivia Night
DESCRIPTION:Trivia Night | Every Thursday | 7–9 PMPut your knowledge to the test at Trivia Night at the Galaxy Club! Join us every Thursday for an evening of fun\, friendly competition\, and brain-teasing questions. Bring your friends\, form a team\, and see if you have what it takes to claim the bragging rights. Whether you’re a trivia master or just in it for the laughs\, everyone is welcome. \nFollow the Galaxy Club Facebook page for weekly themes and the most up-to-date information.
URL:https://100fss.com/event/trivia-night/2026-06-18/
CATEGORIES:Force Support,Fun,Galaxy Specials,Hot Events
ATTACH;FMTTYPE=image/jpeg:https://100fss.com/wp-content/uploads/2026/03/00_Galaxy-Trivia-Night.jpeg
END:VEVENT
BEGIN:VEVENT
DTSTART;VALUE=DATE:20260622
DTEND;VALUE=DATE:20260623
DTSTAMP:20260423T103508
CREATED:20260309T133932Z
LAST-MODIFIED:20260309T134310Z
UID:10000816-1782086400-1782172799@100fss.com
SUMMARY:Scavenger Hunt
DESCRIPTION:🔎📚 Library Scavenger Hunt – All Month Long! 📚🔎 \nReady for an adventure? A new scavenger hunt begins every Monday at the Library! Search high and low to find the hidden pictures throughout the library. Once you complete the hunt\, you’ll get to choose a prize from the treasure box! 🏆✨ \n🗓 New Hunt Available: Every Monday📍 Location: Library\, Building 425 \nLibrary Hours:📖 Mon / Tues / Wed / Fri: 10 AM – 5 PM📖 Thurs: 10 AM – 7 PM📖 Sat: 10 AM – 5 PM \nBring your friends\, your family\, and your best detective skills. Happy hunting! 🕵️‍♂️🗺️
URL:https://100fss.com/event/scavenger-hunt-2/2026-06-22/
CATEGORIES:Fun,Library
ATTACH;FMTTYPE=image/jpeg:https://100fss.com/wp-content/uploads/2024/07/web_-_calendar_icon.jpg_65818d75aa0f75.88381760.jpeg
END:VEVENT
BEGIN:VEVENT
DTSTART;VALUE=DATE:20260625
DTEND;VALUE=DATE:20260626
DTSTAMP:20260423T103508
CREATED:20260309T142432Z
LAST-MODIFIED:20260309T142432Z
UID:10000971-1782345600-1782431999@100fss.com
SUMMARY:Axe Throwing Thursdays!
DESCRIPTION:🪓 Axe Throwing Thursdays! \n📅 Last Thursday of each month – May through August💵 $20 per person⏱ 90-minute sessions👥 Ages 12+ \n📞 Sign up: 01638 544283📍 Building 162 (near the bowling alley & post office) \n🎯 Aim\, throw\, and have a blast! \nFollow RAF Mildenhall Outdoor Recreation Facebook for all the fun!
URL:https://100fss.com/event/axe-throwing-thursdays/2026-06-25/
CATEGORIES:Outdoor Recreation
ATTACH;FMTTYPE=image/jpeg:https://100fss.com/wp-content/uploads/2026/03/00_MAY-AUG-AxeThrowing-Thursdays-POST.jpg
END:VEVENT
BEGIN:VEVENT
DTSTART;TZID=UTC:20260625T190000
DTEND;TZID=UTC:20260625T210000
DTSTAMP:20260423T103508
CREATED:20260309T133305Z
LAST-MODIFIED:20260309T133326Z
UID:10000927-1782414000-1782421200@100fss.com
SUMMARY:Trivia Night
DESCRIPTION:Trivia Night | Every Thursday | 7–9 PMPut your knowledge to the test at Trivia Night at the Galaxy Club! Join us every Thursday for an evening of fun\, friendly competition\, and brain-teasing questions. Bring your friends\, form a team\, and see if you have what it takes to claim the bragging rights. Whether you’re a trivia master or just in it for the laughs\, everyone is welcome. \nFollow the Galaxy Club Facebook page for weekly themes and the most up-to-date information.
URL:https://100fss.com/event/trivia-night/2026-06-25/
CATEGORIES:Force Support,Fun,Galaxy Specials,Hot Events
ATTACH;FMTTYPE=image/jpeg:https://100fss.com/wp-content/uploads/2026/03/00_Galaxy-Trivia-Night.jpeg
END:VEVENT
BEGIN:VEVENT
DTSTART;VALUE=DATE:20260629
DTEND;VALUE=DATE:20260630
DTSTAMP:20260423T103508
CREATED:20260309T133932Z
LAST-MODIFIED:20260309T134310Z
UID:10000817-1782691200-1782777599@100fss.com
SUMMARY:Scavenger Hunt
DESCRIPTION:🔎📚 Library Scavenger Hunt – All Month Long! 📚🔎 \nReady for an adventure? A new scavenger hunt begins every Monday at the Library! Search high and low to find the hidden pictures throughout the library. Once you complete the hunt\, you’ll get to choose a prize from the treasure box! 🏆✨ \n🗓 New Hunt Available: Every Monday📍 Location: Library\, Building 425 \nLibrary Hours:📖 Mon / Tues / Wed / Fri: 10 AM – 5 PM📖 Thurs: 10 AM – 7 PM📖 Sat: 10 AM – 5 PM \nBring your friends\, your family\, and your best detective skills. Happy hunting! 🕵️‍♂️🗺️
URL:https://100fss.com/event/scavenger-hunt-2/2026-06-29/
CATEGORIES:Fun,Library
ATTACH;FMTTYPE=image/jpeg:https://100fss.com/wp-content/uploads/2024/07/web_-_calendar_icon.jpg_65818d75aa0f75.88381760.jpeg
END:VEVENT
BEGIN:VEVENT
DTSTART;TZID=UTC:20260702T190000
DTEND;TZID=UTC:20260702T210000
DTSTAMP:20260423T103508
CREATED:20260309T133305Z
LAST-MODIFIED:20260309T133326Z
UID:10000928-1783018800-1783026000@100fss.com
SUMMARY:Trivia Night
DESCRIPTION:Trivia Night | Every Thursday | 7–9 PMPut your knowledge to the test at Trivia Night at the Galaxy Club! Join us every Thursday for an evening of fun\, friendly competition\, and brain-teasing questions. Bring your friends\, form a team\, and see if you have what it takes to claim the bragging rights. Whether you’re a trivia master or just in it for the laughs\, everyone is welcome. \nFollow the Galaxy Club Facebook page for weekly themes and the most up-to-date information.
URL:https://100fss.com/event/trivia-night/2026-07-02/
CATEGORIES:Force Support,Fun,Galaxy Specials,Hot Events
ATTACH;FMTTYPE=image/jpeg:https://100fss.com/wp-content/uploads/2026/03/00_Galaxy-Trivia-Night.jpeg
END:VEVENT
BEGIN:VEVENT
DTSTART;VALUE=DATE:20260706
DTEND;VALUE=DATE:20260707
DTSTAMP:20260423T103508
CREATED:20260309T133932Z
LAST-MODIFIED:20260309T134310Z
UID:10000818-1783296000-1783382399@100fss.com
SUMMARY:Scavenger Hunt
DESCRIPTION:🔎📚 Library Scavenger Hunt – All Month Long! 📚🔎 \nReady for an adventure? A new scavenger hunt begins every Monday at the Library! Search high and low to find the hidden pictures throughout the library. Once you complete the hunt\, you’ll get to choose a prize from the treasure box! 🏆✨ \n🗓 New Hunt Available: Every Monday📍 Location: Library\, Building 425 \nLibrary Hours:📖 Mon / Tues / Wed / Fri: 10 AM – 5 PM📖 Thurs: 10 AM – 7 PM📖 Sat: 10 AM – 5 PM \nBring your friends\, your family\, and your best detective skills. Happy hunting! 🕵️‍♂️🗺️
URL:https://100fss.com/event/scavenger-hunt-2/2026-07-06/
CATEGORIES:Fun,Library
ATTACH;FMTTYPE=image/jpeg:https://100fss.com/wp-content/uploads/2024/07/web_-_calendar_icon.jpg_65818d75aa0f75.88381760.jpeg
END:VEVENT
BEGIN:VEVENT
DTSTART;TZID=UTC:20260709T190000
DTEND;TZID=UTC:20260709T210000
DTSTAMP:20260423T103508
CREATED:20260309T133305Z
LAST-MODIFIED:20260309T133326Z
UID:10000929-1783623600-1783630800@100fss.com
SUMMARY:Trivia Night
DESCRIPTION:Trivia Night | Every Thursday | 7–9 PMPut your knowledge to the test at Trivia Night at the Galaxy Club! Join us every Thursday for an evening of fun\, friendly competition\, and brain-teasing questions. Bring your friends\, form a team\, and see if you have what it takes to claim the bragging rights. Whether you’re a trivia master or just in it for the laughs\, everyone is welcome. \nFollow the Galaxy Club Facebook page for weekly themes and the most up-to-date information.
URL:https://100fss.com/event/trivia-night/2026-07-09/
CATEGORIES:Force Support,Fun,Galaxy Specials,Hot Events
ATTACH;FMTTYPE=image/jpeg:https://100fss.com/wp-content/uploads/2026/03/00_Galaxy-Trivia-Night.jpeg
END:VEVENT
END:VCALENDAR